BEGIN:VCALENDAR
VERSION:2.0
PRODID:-//Pension Hoogerland - ECPv6.15.19//NONSGML v1.0//EN
CALSCALE:GREGORIAN
METHOD:PUBLISH
X-ORIGINAL-URL:https://www.pensionhoogerland.com
X-WR-CALDESC:Evenementen voor Pension Hoogerland
REFRESH-INTERVAL;VALUE=DURATION:PT1H
X-Robots-Tag:noindex
X-PUBLISHED-TTL:PT1H
BEGIN:VTIMEZONE
TZID:Europe/Paris
BEGIN:DAYLIGHT
TZOFFSETFROM:+0100
TZOFFSETTO:+0200
TZNAME:CEST
DTSTART:20250330T010000
END:DAYLIGHT
BEGIN:STANDARD
TZOFFSETFROM:+0200
TZOFFSETTO:+0100
TZNAME:CET
DTSTART:20251026T010000
END:STANDARD
BEGIN:DAYLIGHT
TZOFFSETFROM:+0100
TZOFFSETTO:+0200
TZNAME:CEST
DTSTART:20260329T010000
END:DAYLIGHT
BEGIN:STANDARD
TZOFFSETFROM:+0200
TZOFFSETTO:+0100
TZNAME:CET
DTSTART:20261025T010000
END:STANDARD
BEGIN:DAYLIGHT
TZOFFSETFROM:+0100
TZOFFSETTO:+0200
TZNAME:CEST
DTSTART:20270328T010000
END:DAYLIGHT
BEGIN:STANDARD
TZOFFSETFROM:+0200
TZOFFSETTO:+0100
TZNAME:CET
DTSTART:20271031T010000
END:STANDARD
END:VTIMEZONE
BEGIN:VEVENT
DTSTART;VALUE=DATE:20260527
DTEND;VALUE=DATE:20260603
DTSTAMP:20260420T120744
CREATED:20260202T074654Z
LAST-MODIFIED:20260223T174911Z
UID:1272-1779840000-1780444799@www.pensionhoogerland.com
SUMMARY:Wörthersee Giro Experience 2026
DESCRIPTION:The WÖRTHERSEE GIRO EXPERIENCE\ncombines sporty road cycling experiences with the emotional highlights of the Giro d’Italia. Guided rides\, community moments\, culinary delights\, and relaxation by the lake make these days an exceptional experience for cycling enthusiasts. \nFrom 4 to 6 nights; choose your programm! \nProgramm\n27.05 Wednesday: Arrival & Meet & Greet\n28.05 Thursday: Ride & Welcome Event\n29.05 Friday: Ride & Culinary Delights\n30.05 Saturday: Giro d’Italia – Race Day\n31.05 Sunday: Day Off & Relax\n01.06 Monday: Giro Donne & Farewell\n02.06. Tuesday: Departure \nYou can find the exact offers and prices and further information on our homepage.\nhttps://woertherseegiro.com\nboeking@pensionhoogerland.com
URL:https://www.pensionhoogerland.com/event/worthersee-giro-experience-2026/
LOCATION:Velden am Wörthersee\, Karinthië\, Oostenrijk
END:VEVENT
END:VCALENDAR