BEGIN:VCALENDAR
VERSION:2.0
PRODID:-//Pension Hoogerland - ECPv6.15.19//NONSGML v1.0//EN
CALSCALE:GREGORIAN
METHOD:PUBLISH
X-ORIGINAL-URL:https://www.pensionhoogerland.com
X-WR-CALDESC:Evenementen voor Pension Hoogerland
REFRESH-INTERVAL;VALUE=DURATION:PT1H
X-Robots-Tag:noindex
X-PUBLISHED-TTL:PT1H
BEGIN:VTIMEZONE
TZID:Europe/Paris
BEGIN:DAYLIGHT
TZOFFSETFROM:+0100
TZOFFSETTO:+0200
TZNAME:CEST
DTSTART:20250330T010000
END:DAYLIGHT
BEGIN:STANDARD
TZOFFSETFROM:+0200
TZOFFSETTO:+0100
TZNAME:CET
DTSTART:20251026T010000
END:STANDARD
BEGIN:DAYLIGHT
TZOFFSETFROM:+0100
TZOFFSETTO:+0200
TZNAME:CEST
DTSTART:20260329T010000
END:DAYLIGHT
BEGIN:STANDARD
TZOFFSETFROM:+0200
TZOFFSETTO:+0100
TZNAME:CET
DTSTART:20261025T010000
END:STANDARD
BEGIN:DAYLIGHT
TZOFFSETFROM:+0100
TZOFFSETTO:+0200
TZNAME:CEST
DTSTART:20270328T010000
END:DAYLIGHT
BEGIN:STANDARD
TZOFFSETFROM:+0200
TZOFFSETTO:+0100
TZNAME:CET
DTSTART:20271031T010000
END:STANDARD
END:VTIMEZONE
BEGIN:VEVENT
DTSTART;VALUE=DATE:20260426
DTEND;VALUE=DATE:20260427
DTSTAMP:20260420T052416
CREATED:20260225T101649Z
LAST-MODIFIED:20260225T101649Z
UID:1315-1777161600-1777247999@www.pensionhoogerland.com
SUMMARY:Wörthersee Autovrij
DESCRIPTION:
URL:https://www.pensionhoogerland.com/event/worthersee-autovrij/
END:VEVENT
BEGIN:VEVENT
DTSTART;VALUE=DATE:20260514
DTEND;VALUE=DATE:20260518
DTSTAMP:20260420T052416
CREATED:20260202T072542Z
LAST-MODIFIED:20260202T072542Z
UID:1286-1778716800-1779062399@www.pensionhoogerland.com
SUMMARY:GTI Treffen 2026
DESCRIPTION:
URL:https://www.pensionhoogerland.com/event/gti-treffen-2026/
END:VEVENT
BEGIN:VEVENT
DTSTART;VALUE=DATE:20260527
DTEND;VALUE=DATE:20260603
DTSTAMP:20260420T052416
CREATED:20260202T074654Z
LAST-MODIFIED:20260223T174911Z
UID:1272-1779840000-1780444799@www.pensionhoogerland.com
SUMMARY:Wörthersee Giro Experience 2026
DESCRIPTION:The WÖRTHERSEE GIRO EXPERIENCE\ncombines sporty road cycling experiences with the emotional highlights of the Giro d’Italia. Guided rides\, community moments\, culinary delights\, and relaxation by the lake make these days an exceptional experience for cycling enthusiasts. \nFrom 4 to 6 nights; choose your programm! \nProgramm\n27.05 Wednesday: Arrival & Meet & Greet\n28.05 Thursday: Ride & Welcome Event\n29.05 Friday: Ride & Culinary Delights\n30.05 Saturday: Giro d’Italia – Race Day\n31.05 Sunday: Day Off & Relax\n01.06 Monday: Giro Donne & Farewell\n02.06. Tuesday: Departure \nYou can find the exact offers and prices and further information on our homepage.\nhttps://woertherseegiro.com\nboeking@pensionhoogerland.com
URL:https://www.pensionhoogerland.com/event/worthersee-giro-experience-2026/
LOCATION:Velden am Wörthersee\, Karinthië\, Oostenrijk
END:VEVENT
BEGIN:VEVENT
DTSTART;VALUE=DATE:20260604
DTEND;VALUE=DATE:20260608
DTSTAMP:20260420T052416
CREATED:20260225T101826Z
LAST-MODIFIED:20260225T101839Z
UID:1317-1780531200-1780876799@www.pensionhoogerland.com
SUMMARY:EUROSAF Sailing Champions League
DESCRIPTION:
URL:https://www.pensionhoogerland.com/event/eurosaf-sailing-champions-league/
END:VEVENT
BEGIN:VEVENT
DTSTART;VALUE=DATE:20260614
DTEND;VALUE=DATE:20260615
DTSTAMP:20260420T052416
CREATED:20260225T101944Z
LAST-MODIFIED:20260225T101944Z
UID:1319-1781395200-1781481599@www.pensionhoogerland.com
SUMMARY:Ironman Austria Triathlon
DESCRIPTION:
URL:https://www.pensionhoogerland.com/event/ironman-austria-triathlon/
END:VEVENT
BEGIN:VEVENT
DTSTART;VALUE=DATE:20260615
DTEND;VALUE=DATE:20260622
DTSTAMP:20260420T052416
CREATED:20260225T102055Z
LAST-MODIFIED:20260225T102055Z
UID:1321-1781481600-1782086399@www.pensionhoogerland.com
SUMMARY:Internationales Sportwagenfestival
DESCRIPTION:
URL:https://www.pensionhoogerland.com/event/internationales-sportwagenfestival/
END:VEVENT
BEGIN:VEVENT
DTSTART;VALUE=DATE:20260701
DTEND;VALUE=DATE:20260706
DTSTAMP:20260420T052416
CREATED:20260225T102156Z
LAST-MODIFIED:20260225T102156Z
UID:1323-1782864000-1783295999@www.pensionhoogerland.com
SUMMARY:International Rolls-Royce & Bentley Meeting
DESCRIPTION:
URL:https://www.pensionhoogerland.com/event/international-rolls-royce-bentley-meeting/
END:VEVENT
BEGIN:VEVENT
DTSTART;VALUE=DATE:20260712
DTEND;VALUE=DATE:20260824
DTSTAMP:20260420T052416
CREATED:20260225T102250Z
LAST-MODIFIED:20260225T102250Z
UID:1325-1783814400-1787529599@www.pensionhoogerland.com
SUMMARY:Flaniermeile Velden - Int. Straßenkunstprogramm
DESCRIPTION:
URL:https://www.pensionhoogerland.com/event/flaniermeile-velden-int-strasenkunstprogramm/
END:VEVENT
BEGIN:VEVENT
DTSTART;VALUE=DATE:20260714
DTEND;VALUE=DATE:20260727
DTSTAMP:20260420T052416
CREATED:20260225T102356Z
LAST-MODIFIED:20260225T102356Z
UID:1327-1783987200-1785110399@www.pensionhoogerland.com
SUMMARY:Europees Kampioenschap Poker
DESCRIPTION:
URL:https://www.pensionhoogerland.com/event/europees-kampioenschap-poker/
END:VEVENT
BEGIN:VEVENT
DTSTART;VALUE=DATE:20260724
DTEND;VALUE=DATE:20260726
DTSTAMP:20260420T052416
CREATED:20260225T102446Z
LAST-MODIFIED:20260225T103013Z
UID:1329-1784851200-1785023999@www.pensionhoogerland.com
SUMMARY:Velden in weiß
DESCRIPTION:
URL:https://www.pensionhoogerland.com/event/velden-in-het-wit/
END:VEVENT
BEGIN:VEVENT
DTSTART;VALUE=DATE:20260807
DTEND;VALUE=DATE:20260812
DTSTAMP:20260420T052416
CREATED:20260225T102554Z
LAST-MODIFIED:20260225T103030Z
UID:1331-1786060800-1786492799@www.pensionhoogerland.com
SUMMARY:Summer Markt
DESCRIPTION:
URL:https://www.pensionhoogerland.com/event/zomer-markt/
END:VEVENT
BEGIN:VEVENT
DTSTART;VALUE=DATE:20260828
DTEND;VALUE=DATE:20260831
DTSTAMP:20260420T052416
CREATED:20260225T102635Z
LAST-MODIFIED:20260225T102949Z
UID:1333-1787875200-1788134399@www.pensionhoogerland.com
SUMMARY:Kärnten lauft- Halbmarathon
DESCRIPTION:
URL:https://www.pensionhoogerland.com/event/karnten-loopt-halve-marathon/
END:VEVENT
BEGIN:VEVENT
DTSTART;VALUE=DATE:20260908
DTEND;VALUE=DATE:20260914
DTSTAMP:20260420T052416
CREATED:20260202T072525Z
LAST-MODIFIED:20260202T072525Z
UID:1288-1788825600-1789343999@www.pensionhoogerland.com
SUMMARY:European Bike Week 2026
DESCRIPTION:
URL:https://www.pensionhoogerland.com/event/european-bike-week-2026/
END:VEVENT
BEGIN:VEVENT
DTSTART;VALUE=DATE:20260918
DTEND;VALUE=DATE:20260921
DTSTAMP:20260420T052416
CREATED:20260225T102745Z
LAST-MODIFIED:20260225T102745Z
UID:1335-1789689600-1789948799@www.pensionhoogerland.com
SUMMARY:Indian Summer Festival
DESCRIPTION:
URL:https://www.pensionhoogerland.com/event/indian-summer-festival/
END:VEVENT
BEGIN:VEVENT
DTSTART;VALUE=DATE:20260927
DTEND;VALUE=DATE:20260928
DTSTAMP:20260420T052416
CREATED:20260225T102816Z
LAST-MODIFIED:20260225T102816Z
UID:1337-1790467200-1790553599@www.pensionhoogerland.com
SUMMARY:Wörthersee Marathon
DESCRIPTION:
URL:https://www.pensionhoogerland.com/event/worthersee-marathon/
END:VEVENT
BEGIN:VEVENT
DTSTART;VALUE=DATE:20261120
DTEND;VALUE=DATE:20261221
DTSTAMP:20260420T052416
CREATED:20260225T102911Z
LAST-MODIFIED:20260225T102911Z
UID:1339-1795132800-1797811199@www.pensionhoogerland.com
SUMMARY:Advent markt
DESCRIPTION:
URL:https://www.pensionhoogerland.com/event/advent-markt/
END:VEVENT
END:VCALENDAR